BEGIN:VCALENDAR
VERSION:2.0
PRODID:-//Flagler County Cultural Council - ECPv6.15.20//NONSGML v1.0//EN
CALSCALE:GREGORIAN
METHOD:PUBLISH
X-WR-CALNAME:Flagler County Cultural Council
X-ORIGINAL-URL:https://flaglerartsandculture.org
X-WR-CALDESC:Events for Flagler County Cultural Council
REFRESH-INTERVAL;VALUE=DURATION:PT1H
X-Robots-Tag:noindex
X-PUBLISHED-TTL:PT1H
BEGIN:VTIMEZONE
TZID:UTC
BEGIN:STANDARD
TZOFFSETFROM:+0000
TZOFFSETTO:+0000
TZNAME:UTC
DTSTART:20240101T000000
END:STANDARD
END:VTIMEZONE
BEGIN:VEVENT
DTSTART;TZID=UTC:20250216T140000
DTEND;TZID=UTC:20250216T153000
DTSTAMP:20260421T150511
CREATED:20250126T012350Z
LAST-MODIFIED:20250126T012350Z
UID:5649-1739714400-1739719800@flaglerartsandculture.org
SUMMARY:Artist Talk and Demo by M. Kathleen Warren
DESCRIPTION:You’re invited to join us for an Artist Talk by M. Kathleen Warren\, Photo-Encaustic Artist\, on Sunday February 16\, 2025\, from 2-3:30 P.M. Kathleen will be discussing her processes and her inspirations as well as doing a live demonstration of how she creates her beautiful artwork. Come join us and Kathleen will answer all questions at Expressions Art Gallery\, located at 2298 Colbert Lane inside the Grand Living Realty building on February 16\, 2025\, from 2-3:30 P.M.
URL:https://flaglerartsandculture.org/event/artist-talk-and-demo-by-m-kathleen-warren/
LOCATION:Expressions Gallery\, Grand Living Realty\, 2298 Colbert Lande\, Palm Coast\, 32164\, United States
CATEGORIES:Visual Arts
ATTACH;FMTTYPE=image/jpeg:https://flaglerartsandculture.org/wp-content/uploads/2025/01/M.-Kathleen-Warren-Flyer-for-artist-talk-Rev2.jpg
END:VEVENT
END:VCALENDAR