BEGIN:VCALENDAR
VERSION:2.0
PRODID:-//Flagler County Cultural Council - ECPv6.15.20//NONSGML v1.0//EN
CALSCALE:GREGORIAN
METHOD:PUBLISH
X-ORIGINAL-URL:https://flaglerartsandculture.org
X-WR-CALDESC:Events for Flagler County Cultural Council
REFRESH-INTERVAL;VALUE=DURATION:PT1H
X-Robots-Tag:noindex
X-PUBLISHED-TTL:PT1H
BEGIN:VTIMEZONE
TZID:America/New_York
BEGIN:DAYLIGHT
TZOFFSETFROM:-0500
TZOFFSETTO:-0400
TZNAME:EDT
DTSTART:20240310T070000
END:DAYLIGHT
BEGIN:STANDARD
TZOFFSETFROM:-0400
TZOFFSETTO:-0500
TZNAME:EST
DTSTART:20241103T060000
END:STANDARD
BEGIN:DAYLIGHT
TZOFFSETFROM:-0500
TZOFFSETTO:-0400
TZNAME:EDT
DTSTART:20250309T070000
END:DAYLIGHT
BEGIN:STANDARD
TZOFFSETFROM:-0400
TZOFFSETTO:-0500
TZNAME:EST
DTSTART:20251102T060000
END:STANDARD
BEGIN:DAYLIGHT
TZOFFSETFROM:-0500
TZOFFSETTO:-0400
TZNAME:EDT
DTSTART:20260308T070000
END:DAYLIGHT
BEGIN:STANDARD
TZOFFSETFROM:-0400
TZOFFSETTO:-0500
TZNAME:EST
DTSTART:20261101T060000
END:STANDARD
END:VTIMEZONE
BEGIN:VTIMEZONE
TZID:UTC
BEGIN:STANDARD
TZOFFSETFROM:+0000
TZOFFSETTO:+0000
TZNAME:UTC
DTSTART:20230101T000000
END:STANDARD
END:VTIMEZONE
BEGIN:VEVENT
DTSTART;TZID=America/New_York:20251025T113000
DTEND;TZID=America/New_York:20251025T150000
DTSTAMP:20260421T052723
CREATED:20251015T170959Z
LAST-MODIFIED:20251015T170959Z
UID:10001129-1761391800-1761404400@flaglerartsandculture.org
SUMMARY:Palm Coast Historical Society Founders Day
DESCRIPTION:Join us for Founder’s Day on Saturday\, October 25\, 2025\, from 11:30 am-3 pm for a celebration of Palm Coast history and the founders that shaped it! Take a free tour through the PCHS museum and check out local food trucks\, vendors\, games\, and outdoor activities for all ages. Located at James F. Holland Memorial Park\, 18 Florida Park Drive\, Palm Coast\, FL 32137
URL:https://flaglerartsandculture.org/event/palm-coast-historical-society-founders-day/
LOCATION:James Holland Park\, 18 Florida Park Drive\, Palm Coast\, FL\, 32137\, United States
CATEGORIES:Festivals,history,kids,museum,vendors
ATTACH;FMTTYPE=image/png:https://flaglerartsandculture.org/wp-content/uploads/2025/10/2025_Founder_s_Day_Flyer_8627bb6b8c.png
END:VEVENT
BEGIN:VEVENT
DTSTART;TZID=UTC:20250927T100000
DTEND;TZID=UTC:20250927T110000
DTSTAMP:20260421T052723
CREATED:20250911T233105Z
LAST-MODIFIED:20250911T233105Z
UID:10001119-1758967200-1758970800@flaglerartsandculture.org
SUMMARY:Pirates Hunting Sunken Treasure: How a Florida Shipwreck Sparked the Golden Age of Piracy
DESCRIPTION:The golden age of piracy—the time when notorious cutthroats like Blackbeard\, Sam Bellamy\, and Bartholomew Roberts sailed—began in Florida with a shipwreck. Caught by a hurricane\, the 1715 Spanish treasure fleet sank in the Florida Straits. When a salvage operation began\, British pirates from Jamaica swooped in and robbed the Spanish on the beach. This program examines the wave of piracy that followed and how it provided inspiration for countless works of fiction and shaped modern days ideas of pirates.
URL:https://flaglerartsandculture.org/event/pirates-hunting-sunken-treasure-how-a-florida-shipwreck-sparked-the-golden-age-of-piracy/
LOCATION:Palm Coast Parks & Recreation Community Center\, 305 Palm Coast Pkwy NE\, Palm Coast\, FL\, 32137\, United States
CATEGORIES:history
ATTACH;FMTTYPE=image/png:https://flaglerartsandculture.org/wp-content/uploads/2025/09/Pirates-by-Dr-Head-Flyer.png
END:VEVENT
BEGIN:VEVENT
DTSTART;TZID=UTC:20250517T100000
DTEND;TZID=UTC:20250517T110000
DTSTAMP:20260421T052723
CREATED:20250508T211138Z
LAST-MODIFIED:20250508T211227Z
UID:10001022-1747476000-1747479600@flaglerartsandculture.org
SUMMARY:Seventy Years of Elvis and Florida: 1955 to 2025
DESCRIPTION:In May of 2025\, the state commemorates seventy years since the would-be King of Rock and Roll performed his first Florida concerts. The relationship between Elvis and the state lasted decades beyond Presley’s sudden death in 1977. To mark seventy years of Elvis and the Sunshine State\, author Bob Kealing brings new perspective on the crucial roles Florida played in Presley’s career as a singer and actor. This program is based on Kealing’s book Elvis Ignited published in 2017. \nRSVP by calling 386-986-2323 or visiting parksandrec.fun
URL:https://flaglerartsandculture.org/event/seventy-years-of-elvis-and-florida-1955-to-2025/
LOCATION:Palm Coast Parks & Recreation Community Center\, 305 Palm Coast Pkwy NE\, Palm Coast\, FL\, 32137\, United States
CATEGORIES:history
ATTACH;FMTTYPE=image/png:https://flaglerartsandculture.org/wp-content/uploads/2025/05/Elvis-Bob-Kealing.png
END:VEVENT
BEGIN:VEVENT
DTSTART;TZID=UTC:20250104T100000
DTEND;TZID=UTC:20250104T110000
DTSTAMP:20260421T052723
CREATED:20241211T214249Z
LAST-MODIFIED:20241211T214706Z
UID:10000984-1735984800-1735988400@flaglerartsandculture.org
SUMMARY:The Lost Roadside Attractions of Florida
DESCRIPTION:Join Zach Zacharias for a presentation of Florida’s past roadside attractions Saturday January 4th\, 2025 at 10am. The event will be held at the Palm Coast Community Center. Florida has long been a favored destination for tourists\, dating back to the early days of the state’s development. This engaging presentation explores the numerous roadside attractions that captivated visitors before the advent of Disney World. From Six Gun Territory and the Marco Polo Park to Animal Land and Bongo Land\, attendees will learn about the fascinating history of these iconic sites and the role they played in Florida’s tourism industry. Additionally\, the presentation delves into how Disney’s arrival forever changed the landscape of Florida’s attractions\, leading to the closure of many of these beloved sites. \nTo register for the event please call 386-986-2323 or visit www.parksandrec.fun
URL:https://flaglerartsandculture.org/event/the-lost-roadside-attractions-of-florida/
LOCATION:Palm Coast Parks & Recreation Community Center\, 305 Palm Coast Pkwy NE\, Palm Coast\, FL\, 32137\, United States
CATEGORIES:history
ATTACH;FMTTYPE=image/png:https://flaglerartsandculture.org/wp-content/uploads/2024/12/Lost-Roadside-Attractions.png
END:VEVENT
BEGIN:VEVENT
DTSTART;TZID=UTC:20241011T160000
DTEND;TZID=UTC:20241011T170000
DTSTAMP:20260421T052723
CREATED:20241003T181410Z
LAST-MODIFIED:20241003T181410Z
UID:10000961-1728662400-1728666000@flaglerartsandculture.org
SUMMARY:Historical Plaque Dedication - Long Creek Nature Preserve
DESCRIPTION:Join us on Friday October 11\, 2024\, at 4:00 pm to celebrate and dedicate the historic wharf at Long’s Landing. This wharf was part of the 1800’s plantation\, St. Joseph’s owned by General Joseph Hernandez. He was a sugar planter\, the state’s first delegate to Congress\, appointed by a legislative council in 1823\, and the first Hispanic to serve in Congress from Florida. Other local plantation owners from that era also used the wharf to ship their products around the world.” Learn more of the history at the dedication and be the one who will say\, I was there! \nLong Creek Preserve – 1050 Palm Harbor Pkwy. Palm Coast\, FL 32137
URL:https://flaglerartsandculture.org/event/historical-plaque-dedication-long-creek-nature-preserve/
LOCATION:Long Creek Nature Preserve\, 1050 Palm Harbor Pkwy.\, Palm Coast\, FL 32137\, F\, United States
CATEGORIES:history
ATTACH;FMTTYPE=image/jpeg:https://flaglerartsandculture.org/wp-content/uploads/2024/10/IMG_0604.jpeg
END:VEVENT
BEGIN:VEVENT
DTSTART;TZID=UTC:20240928T130000
DTEND;TZID=UTC:20240928T140000
DTSTAMP:20260421T052723
CREATED:20240824T000358Z
LAST-MODIFIED:20240824T000923Z
UID:10000599-1727528400-1727532000@flaglerartsandculture.org
SUMMARY:Good Day Sunshine State: How the Beatles Rocked Florida
DESCRIPTION:Palm Coast Historical Society invites you to join author Bob Kealing for a discussion of his book “Good Day Sunshine State: How the Beatles Rocked Florida.” Bob explores the musical and cultural impact of the Beatles in Florida\, an important part of the revolution that helped make the “Fab Four” a worldwide phenomenon. It is a FREE event but registration is required\, call 386-986-2323 or visit parksandrec.fun.
URL:https://flaglerartsandculture.org/event/good-day-sunshine-state-how-the-beatles-rocked-florida/
LOCATION:Palm Coast Parks & Recreation Community Center\, 305 Palm Coast Pkwy NE\, Palm Coast\, FL\, 32137\, United States
CATEGORIES:history,music
ATTACH;FMTTYPE=image/png:https://flaglerartsandculture.org/wp-content/uploads/2024/08/ame-2-1.png
END:VEVENT
END:VCALENDAR