BEGIN:VCALENDAR
VERSION:2.0
PRODID:-//Flagler County Cultural Council - ECPv6.15.20//NONSGML v1.0//EN
CALSCALE:GREGORIAN
METHOD:PUBLISH
X-WR-CALNAME:Flagler County Cultural Council
X-ORIGINAL-URL:https://flaglerartsandculture.org
X-WR-CALDESC:Events for Flagler County Cultural Council
REFRESH-INTERVAL;VALUE=DURATION:PT1H
X-Robots-Tag:noindex
X-PUBLISHED-TTL:PT1H
BEGIN:VTIMEZONE
TZID:UTC
BEGIN:STANDARD
TZOFFSETFROM:+0000
TZOFFSETTO:+0000
TZNAME:UTC
DTSTART:20220101T000000
END:STANDARD
END:VTIMEZONE
BEGIN:VEVENT
DTSTART;TZID=UTC:20251108T100000
DTEND;TZID=UTC:20251108T150000
DTSTAMP:20260422T162331
CREATED:20250823T230652Z
LAST-MODIFIED:20250823T230652Z
UID:10001118-1762596000-1762614000@flaglerartsandculture.org
SUMMARY:Fall Festival of the Arts
DESCRIPTION:Join us at Central Park Town Center on Saturday\, November 8th\, from 10am-3pm for a beautiful day filled with art\, music\, food\, and fun. Regional artists and artisan crafters will showcase a variety of mediums for enjoyment and purchase. Local musicians will provide entertainment. This festival is presented by the Flagler County Cultural Council and the City of Palm Coast.  Parking and admission are free. \nIf  you are interested in being a vendor and displaying your work at this event go to flaglerartsandculture.org/arts-fesitval-vendor-application/ to register
URL:https://flaglerartsandculture.org/event/fall-festival-of-the-arts/
LOCATION:Central Park in Town Center\, 975 Central Ave\, Palm Coast\, FL\, 32164\, United States
CATEGORIES:Crafts,Festivals,Visual Arts
ATTACH;FMTTYPE=image/jpeg:https://flaglerartsandculture.org/wp-content/uploads/2025/08/FC3-Fall-Arts-Festival-Flyer-final-scaled.jpg
ORGANIZER;CN="Flagler County Cultural Council":MAILTO:info@flaglerartsandculture.org
END:VEVENT
BEGIN:VEVENT
DTSTART;TZID=UTC:20250517T100000
DTEND;TZID=UTC:20250517T150000
DTSTAMP:20260422T162331
CREATED:20250325T232541Z
LAST-MODIFIED:20250516T003919Z
UID:10001016-1747476000-1747494000@flaglerartsandculture.org
SUMMARY:Spring Arts Festival
DESCRIPTION:Come celebrate spring at the FC3 Spring Arts Festival\, showcasing the artists and crafters of the Flagler County area. \nSaturday\, May 17: 10 am – 3 pm \nCentral Park Town Center\, 975 Central Ave. Palm Coast\, FL 32164 \nFree entry and parking. \nFor more information and vendor registration\, visit https://flaglerartsandculture.org/spring-arts-fesitval-vendor-application/
URL:https://flaglerartsandculture.org/event/spring-arts-festival/
LOCATION:Central Park in Town Center\, 975 Central Ave\, Palm Coast\, FL\, 32164\, United States
CATEGORIES:Crafts,family,Festivals,food,vendors,Visual Arts
ATTACH;FMTTYPE=image/jpeg:https://flaglerartsandculture.org/wp-content/uploads/2025/03/Spring-Arts-Festival-flyer-only-1-scaled.jpg
ORGANIZER;CN="Flagler County Cultural Council":MAILTO:info@flaglerartsandculture.org
END:VEVENT
BEGIN:VEVENT
DTSTART;TZID=UTC:20241109T100000
DTEND;TZID=UTC:20241109T150000
DTSTAMP:20260422T162331
CREATED:20240731T232344Z
LAST-MODIFIED:20240731T233034Z
UID:10000598-1731146400-1731164400@flaglerartsandculture.org
SUMMARY:Palm Coast Fall Arts Festival
DESCRIPTION:Please join us for a fun-filled day of activities and arts and crafts\, plus kids’ activities including art projects\, a hay maze\, face painting\, and more\, and a full line-up of musical entertainment and food trucks!  This 3rd Annual Palm Coast Fall Arts Festival returns to Town Center on November 9 from 10 am to 3 pm.  The event is co-sponsored by the Flagler County Cultural Council and the City of Palm Coast. \nArts and crafts vendors who would like to be a part of the festival can register here. \nFor more information\, please contact the Flagler County Cultural Council at info@flaglerartsandculture.com
URL:https://flaglerartsandculture.org/event/palm-coast-fall-arts-festival/
LOCATION:Central Park in Town Center\, 975 Central Ave\, Palm Coast\, FL\, 32164\, United States
CATEGORIES:family,kids,music,Visual Arts
ATTACH;FMTTYPE=image/jpeg:https://flaglerartsandculture.org/wp-content/uploads/2023/10/Fall_Arts_Fest_horizontal-2024-updated.jpg
ORGANIZER;CN="Flagler County Cultural Council":MAILTO:info@flaglerartsandculture.org
END:VEVENT
BEGIN:VEVENT
DTSTART;TZID=UTC:20231112T110000
DTEND;TZID=UTC:20231112T150000
DTSTAMP:20260422T162331
CREATED:20231018T170749Z
LAST-MODIFIED:20231020T021333Z
UID:10000005-1699786800-1699801200@flaglerartsandculture.org
SUMMARY:2nd Annual Palm Coast Fall Arts Festival
DESCRIPTION:It’s time for the 2nd annual Palm Coast Fall Arts Festival hosted by the Flagler County Cultural Council in conjunction with the City of Palm Coast on November 12\, 2023 from 11AM – 3PM at the Central Park in Town Center\, 975 Central Ave\, Palm Coast\, FL 32164. \nWelcoming artisans and crafters\, the fall arts festival will feature handmade and homemade crafts and goods for along with the works of artisans from across the country. \nJoin us for this fabulous event as we welcome you to the Palm Coast Arts District of Town Center this fall. \nAre you a local vendor\, artisan or crafter? Click here for details and the registration form. \nQuestions? Email info@FlaglerCountyCulturalCouncil.com \nRegister Here: Register
URL:https://flaglerartsandculture.org/event/2nd-annual-palm-coast-fall-arts-festival/
LOCATION:Central Park in Town Center\, 975 Central Ave\, Palm Coast\, FL\, 32164\, United States
ORGANIZER;CN="Flagler County Cultural Council":MAILTO:info@flaglerartsandculture.org
END:VEVENT
END:VCALENDAR