BEGIN:VCALENDAR
VERSION:2.0
PRODID:-//Flagler County Cultural Council - ECPv6.15.20//NONSGML v1.0//EN
CALSCALE:GREGORIAN
METHOD:PUBLISH
X-WR-CALNAME:Flagler County Cultural Council
X-ORIGINAL-URL:https://flaglerartsandculture.org
X-WR-CALDESC:Events for Flagler County Cultural Council
REFRESH-INTERVAL;VALUE=DURATION:PT1H
X-Robots-Tag:noindex
X-PUBLISHED-TTL:PT1H
BEGIN:VTIMEZONE
TZID:UTC
BEGIN:STANDARD
TZOFFSETFROM:+0000
TZOFFSETTO:+0000
TZNAME:UTC
DTSTART:20240101T000000
END:STANDARD
END:VTIMEZONE
BEGIN:VEVENT
DTSTART;TZID=UTC:20260417T110000
DTEND;TZID=UTC:20260417T120000
DTSTAMP:20260422T114817
CREATED:20250816T002550Z
LAST-MODIFIED:20250816T002649Z
UID:10001045-1776423600-1776427200@flaglerartsandculture.org
SUMMARY:Flagler County Cultural Council Board Meeting
DESCRIPTION:The Flagler County Cultural Council meets monthly on the third Friday of each month.  Meetings take place at the Tourism Development Office\, 120 Airport Road\, Palm Coast\, FL 32164\, in the 3rd-floor conference room.  Contact info@flaglerartsandculture.com for additional information.
URL:https://flaglerartsandculture.org/event/flagler-county-cultural-council-board-meeting/2026-04-17/
LOCATION:Tourism Development Office\, 120 Airport Rd. Ste 3\, Palm Coast\, FL\, 32164\, United States
CATEGORIES:meeting
ATTACH;FMTTYPE=image/png:https://flaglerartsandculture.org/wp-content/uploads/2025/03/FC3-logo-small.png
ORGANIZER;CN="Flagler County Cultural Council":MAILTO:info@flaglerartsandculture.org
END:VEVENT
BEGIN:VEVENT
DTSTART;TZID=UTC:20260320T110000
DTEND;TZID=UTC:20260320T120000
DTSTAMP:20260422T114817
CREATED:20250816T002550Z
LAST-MODIFIED:20250816T002649Z
UID:10001044-1774004400-1774008000@flaglerartsandculture.org
SUMMARY:Flagler County Cultural Council Board Meeting
DESCRIPTION:The Flagler County Cultural Council meets monthly on the third Friday of each month.  Meetings take place at the Tourism Development Office\, 120 Airport Road\, Palm Coast\, FL 32164\, in the 3rd-floor conference room.  Contact info@flaglerartsandculture.com for additional information.
URL:https://flaglerartsandculture.org/event/flagler-county-cultural-council-board-meeting/2026-03-20/
LOCATION:Tourism Development Office\, 120 Airport Rd. Ste 3\, Palm Coast\, FL\, 32164\, United States
CATEGORIES:meeting
ATTACH;FMTTYPE=image/png:https://flaglerartsandculture.org/wp-content/uploads/2025/03/FC3-logo-small.png
ORGANIZER;CN="Flagler County Cultural Council":MAILTO:info@flaglerartsandculture.org
END:VEVENT
BEGIN:VEVENT
DTSTART;TZID=UTC:20260220T110000
DTEND;TZID=UTC:20260220T120000
DTSTAMP:20260422T114817
CREATED:20250816T002550Z
LAST-MODIFIED:20250816T002649Z
UID:10001043-1771585200-1771588800@flaglerartsandculture.org
SUMMARY:Flagler County Cultural Council Board Meeting
DESCRIPTION:The Flagler County Cultural Council meets monthly on the third Friday of each month.  Meetings take place at the Tourism Development Office\, 120 Airport Road\, Palm Coast\, FL 32164\, in the 3rd-floor conference room.  Contact info@flaglerartsandculture.com for additional information.
URL:https://flaglerartsandculture.org/event/flagler-county-cultural-council-board-meeting/2026-02-20/
LOCATION:Tourism Development Office\, 120 Airport Rd. Ste 3\, Palm Coast\, FL\, 32164\, United States
CATEGORIES:meeting
ATTACH;FMTTYPE=image/png:https://flaglerartsandculture.org/wp-content/uploads/2025/03/FC3-logo-small.png
ORGANIZER;CN="Flagler County Cultural Council":MAILTO:info@flaglerartsandculture.org
END:VEVENT
BEGIN:VEVENT
DTSTART;TZID=UTC:20260116T110000
DTEND;TZID=UTC:20260116T120000
DTSTAMP:20260422T114817
CREATED:20250816T002550Z
LAST-MODIFIED:20250816T002649Z
UID:10001042-1768561200-1768564800@flaglerartsandculture.org
SUMMARY:Flagler County Cultural Council Board Meeting
DESCRIPTION:The Flagler County Cultural Council meets monthly on the third Friday of each month.  Meetings take place at the Tourism Development Office\, 120 Airport Road\, Palm Coast\, FL 32164\, in the 3rd-floor conference room.  Contact info@flaglerartsandculture.com for additional information.
URL:https://flaglerartsandculture.org/event/flagler-county-cultural-council-board-meeting/2026-01-16/
LOCATION:Tourism Development Office\, 120 Airport Rd. Ste 3\, Palm Coast\, FL\, 32164\, United States
CATEGORIES:meeting
ATTACH;FMTTYPE=image/png:https://flaglerartsandculture.org/wp-content/uploads/2025/03/FC3-logo-small.png
ORGANIZER;CN="Flagler County Cultural Council":MAILTO:info@flaglerartsandculture.org
END:VEVENT
BEGIN:VEVENT
DTSTART;TZID=UTC:20251219T110000
DTEND;TZID=UTC:20251219T120000
DTSTAMP:20260422T114817
CREATED:20250816T002550Z
LAST-MODIFIED:20250816T002649Z
UID:10001041-1766142000-1766145600@flaglerartsandculture.org
SUMMARY:Flagler County Cultural Council Board Meeting
DESCRIPTION:The Flagler County Cultural Council meets monthly on the third Friday of each month.  Meetings take place at the Tourism Development Office\, 120 Airport Road\, Palm Coast\, FL 32164\, in the 3rd-floor conference room.  Contact info@flaglerartsandculture.com for additional information.
URL:https://flaglerartsandculture.org/event/flagler-county-cultural-council-board-meeting/2025-12-19/
LOCATION:Tourism Development Office\, 120 Airport Rd. Ste 3\, Palm Coast\, FL\, 32164\, United States
CATEGORIES:meeting
ATTACH;FMTTYPE=image/png:https://flaglerartsandculture.org/wp-content/uploads/2025/03/FC3-logo-small.png
ORGANIZER;CN="Flagler County Cultural Council":MAILTO:info@flaglerartsandculture.org
END:VEVENT
BEGIN:VEVENT
DTSTART;TZID=UTC:20251121T110000
DTEND;TZID=UTC:20251121T120000
DTSTAMP:20260422T114817
CREATED:20250816T002550Z
LAST-MODIFIED:20250816T002649Z
UID:10001040-1763722800-1763726400@flaglerartsandculture.org
SUMMARY:Flagler County Cultural Council Board Meeting
DESCRIPTION:The Flagler County Cultural Council meets monthly on the third Friday of each month.  Meetings take place at the Tourism Development Office\, 120 Airport Road\, Palm Coast\, FL 32164\, in the 3rd-floor conference room.  Contact info@flaglerartsandculture.com for additional information.
URL:https://flaglerartsandculture.org/event/flagler-county-cultural-council-board-meeting/2025-11-21/
LOCATION:Tourism Development Office\, 120 Airport Rd. Ste 3\, Palm Coast\, FL\, 32164\, United States
CATEGORIES:meeting
ATTACH;FMTTYPE=image/png:https://flaglerartsandculture.org/wp-content/uploads/2025/03/FC3-logo-small.png
ORGANIZER;CN="Flagler County Cultural Council":MAILTO:info@flaglerartsandculture.org
END:VEVENT
BEGIN:VEVENT
DTSTART;TZID=UTC:20251017T110000
DTEND;TZID=UTC:20251017T120000
DTSTAMP:20260422T114817
CREATED:20250816T002550Z
LAST-MODIFIED:20250816T002649Z
UID:10001039-1760698800-1760702400@flaglerartsandculture.org
SUMMARY:Flagler County Cultural Council Board Meeting
DESCRIPTION:The Flagler County Cultural Council meets monthly on the third Friday of each month.  Meetings take place at the Tourism Development Office\, 120 Airport Road\, Palm Coast\, FL 32164\, in the 3rd-floor conference room.  Contact info@flaglerartsandculture.com for additional information.
URL:https://flaglerartsandculture.org/event/flagler-county-cultural-council-board-meeting/2025-10-17/
LOCATION:Tourism Development Office\, 120 Airport Rd. Ste 3\, Palm Coast\, FL\, 32164\, United States
CATEGORIES:meeting
ATTACH;FMTTYPE=image/png:https://flaglerartsandculture.org/wp-content/uploads/2025/03/FC3-logo-small.png
ORGANIZER;CN="Flagler County Cultural Council":MAILTO:info@flaglerartsandculture.org
END:VEVENT
BEGIN:VEVENT
DTSTART;TZID=UTC:20250919T110000
DTEND;TZID=UTC:20250919T120000
DTSTAMP:20260422T114817
CREATED:20250816T002550Z
LAST-MODIFIED:20250816T002649Z
UID:10001038-1758279600-1758283200@flaglerartsandculture.org
SUMMARY:Flagler County Cultural Council Board Meeting
DESCRIPTION:The Flagler County Cultural Council meets monthly on the third Friday of each month.  Meetings take place at the Tourism Development Office\, 120 Airport Road\, Palm Coast\, FL 32164\, in the 3rd-floor conference room.  Contact info@flaglerartsandculture.com for additional information.
URL:https://flaglerartsandculture.org/event/flagler-county-cultural-council-board-meeting/2025-09-19/
LOCATION:Tourism Development Office\, 120 Airport Rd. Ste 3\, Palm Coast\, FL\, 32164\, United States
CATEGORIES:meeting
ATTACH;FMTTYPE=image/png:https://flaglerartsandculture.org/wp-content/uploads/2025/03/FC3-logo-small.png
ORGANIZER;CN="Flagler County Cultural Council":MAILTO:info@flaglerartsandculture.org
END:VEVENT
END:VCALENDAR